BEGIN:VCALENDAR
VERSION:2.0
PRODID:-//eventon.com NONSGML v1.0//EN
BEGIN:VEVENT
UID:69ed1b43b4775
DTSTAMP:20260425T215131
DTSTART:20240719T220000Z
DTEND:20240725T220000Z
LOCATION:
SUMMARY:Découverte en immersion des 3 formes de vie religieuse féminine
DESCRIPTION: Destinée aux filles de 18 à 30 ans\,  la Route est accompagnée par 2 sœurs de communautés différentes. La Route Amor Dei propose de découvrir « de l’intérieur » les 3 formes de vie religieuse féminine\,  en passant deux jours en immersion dans chaque communauté rencontrée. Seront visitées: - Les Petites Sœurs des[..]
END:VEVENT
END:VCALENDAR